BEGIN:VCALENDAR
VERSION:2.0
PRODID:-//Schützengau Altdorf – Neumarkt – Beilngries - ECPv4.9.2//NONSGML v1.0//EN
CALSCALE:GREGORIAN
METHOD:PUBLISH
X-WR-CALNAME:Schützengau Altdorf – Neumarkt – Beilngries
X-ORIGINAL-URL:https://www.gau-anb.de
X-WR-CALDESC:Veranstaltungen im Schützengau Altdorf – Neumarkt – Beilngries
BEGIN:VEVENT
DTSTART;VALUE=DATE:20240615
DTEND;VALUE=DATE:20240617
DTSTAMP:20260425T143757
CREATED:20240214T223553Z
LAST-MODIFIED:20240214T223553Z
UID:9432-1718409600-1718582399@www.gau-anb.de
SUMMARY:Offene Bayerische Lichtmeisterschaften
DESCRIPTION:Die BSSJ veranstaltet dieses Jahr erstmalig eine offene Bayerische Lichtmeisterschaft.\nAm 15.06. finden die Disziplinen Lichtgewehr Auflage und Lichtpistole Auflage statt\, am 16.06. die Disziplinen Lichtgewehr Freihand und Lichtpistole Freihand.\nAlle Informationen gibt es auf der Veranstaltungsseite der BSSJ. \nMeldeschluss ist der 01.05.2024! \n
URL:https://www.gau-anb.de/termin/offene-bayerische-lichtmeisterschaften/
LOCATION:Zeidler Sporthalle Feucht\, Schulstraße 26A\, Feucht\, Bayern\, 90537\, Deutschland
CATEGORIES:Gau ANB,Jugend
END:VEVENT
END:VCALENDAR