BEGIN:VCALENDAR
VERSION:2.0
PRODID:-//Schützengau Altdorf – Neumarkt – Beilngries - ECPv4.9.2//NONSGML v1.0//EN
CALSCALE:GREGORIAN
METHOD:PUBLISH
X-WR-CALNAME:Schützengau Altdorf – Neumarkt – Beilngries
X-ORIGINAL-URL:https://www.gau-anb.de
X-WR-CALDESC:Veranstaltungen im Schützengau Altdorf – Neumarkt – Beilngries
BEGIN:VEVENT
DTSTART;VALUE=DATE:20240204
DTEND;VALUE=DATE:20240205
DTSTAMP:20260424T234042
CREATED:20240129T190826Z
LAST-MODIFIED:20240129T190826Z
UID:9142-1707004800-1707091199@www.gau-anb.de
SUMMARY:Jahreshauptversammlung Gau ANB
DESCRIPTION:Am 4. Februar 2024 findet die Jahreshauptversammlung des Schützengaues Altdorf-Neumarkt-Beilngries um 14 Uhr in Schwarzenbruck statt.\nMit Neuwahlen. \n
URL:https://www.gau-anb.de/termin/jahreshauptversammlung-gau-anb-3/
CATEGORIES:Gau ANB
END:VEVENT
END:VCALENDAR